BEGIN:VCALENDAR
VERSION:2.0
PRODID:-//eventon.com NONSGML v1.0//EN
CALSCALE:GREGORIAN
METHOD:PUBLISH
BEGIN:VEVENT
UID:69e7362f4d66b
DTSTAMP:20260421T083247Z
DTSTART:20241016T080000Z
DTEND:20241016T093000Z
LOCATION:Bibliotheek Staphorst Venneland 1
SUMMARY:Inloopspreekuur OV-ambassadeurs
DESCRIPTION:Tijdens de maandelijkse inloopspreekuren op locatie geven OV-am
 bassadeurs advies en tips aan 55-plussers over het reizen met trein of bus.
  Zo helpen zij hun leeftijdsgenoten langer zelfstandig te reizen en kan men
  zelf ervaren dat reizen met het openbaar vervoer niet moeilijk is. Voor so
 mmige mensen is het al even[..]\nhttps://rtvslos.nl/events/inloopspreekuur-
 ov-ambassadeurs-7/
URL:https://rtvslos.nl/events/inloopspreekuur-ov-ambassadeurs-7/
END:VEVENT
END:VCALENDAR