BEGIN:VCALENDAR
VERSION:2.0
PRODID:-//eventon.com NONSGML v1.0//EN
CALSCALE:GREGORIAN
METHOD:PUBLISH
BEGIN:VEVENT
UID:69e9e3ebb08c0
DTSTAMP:20260423T091835Z
DTSTART:20250225T183000Z
DTEND:20250225T200000Z
LOCATION:Infopunt Duurzaam Doen Kerkstraat 4
SUMMARY:Gratis lezing Meten is Weten: ontdek hoe jij energie bespaart
DESCRIPTION:Wil je besparen op je energierekening? Het begint met inzicht i
 n je verbruik. Met de juiste tools ontdek je eenvoudig waar je energie naar
 toe gaat én hoe je kunt besparen. Daarom geven energiecoaches Tineke Bos e
 n Robbert Vlagsma van Stichting Duurzaam Steenwijkerland op dinsdag 25 febr
 uari een gratis lezing. Je[..]\nhttps://rtvslos.nl/events/gratis-lezing-met
 en-is-weten-ontdek-hoe-jij-energie-bespaart/
URL:https://rtvslos.nl/events/gratis-lezing-meten-is-weten-ontdek-hoe-jij-energie-bespaart/
END:VEVENT
END:VCALENDAR