BEGIN:VCALENDAR
VERSION:2.0
PRODID:-//eventon.com NONSGML v1.0//EN
CALSCALE:GREGORIAN
METHOD:PUBLISH
BEGIN:VEVENT
UID:69e73621ba699
DTSTAMP:20260421T083233Z
DTSTART:20250607
DTEND:20250608
LOCATION:PSC De Zuidstroom Vinkega Noordwolderweg 8a\,  Vinkega\,  Netherlands
SUMMARY:Pieter Stuyvesant Kuiertocht
DESCRIPTION:Pieter Stuyvesant kuiert in 2025 naar Noordwolde eo Het is 2025
 \,  het jaar van onze 11e editie van de Pieter Stuyvesant Kuiertocht op zat
 erdag 7 juni. Evenals in 2013 wandelen we dit keer door de prachtige bosrij
 ke omgeving in de oosthoek van het mooie Weststellingwerf. Deze editie ligt
  het start-[..]\nhttps://rtvslos.nl/events/pieter-stuyvesant-kuiertocht/
URL:https://rtvslos.nl/events/pieter-stuyvesant-kuiertocht/
END:VEVENT
END:VCALENDAR